BEGIN:VCALENDAR
VERSION:2.0
PRODID:-//Tukios.com/
BEGIN:VEVENT
UID:b035c580-c80d-415c-8468-1ca5b9ff33d6@development.altogetherfuneral.com
DTSTAMP:20260423T032517Z
DTSTART:20260424T150000Z
DTEND:20260424T160000Z
SUMMARY:Jim's Graveside Service
DESCRIPTION:
URL:https://development.altogetherfuneral.com/obituaries/altogether/orlando-florida/launch-demo/february-2026
LOCATION: 1300 Bruton Blvd.  Orlando FL 32805
GEO:28.5383832;-81.3789269
END:VEVENT
END:VCALENDAR