BEGIN:VCALENDAR
VERSION:2.0
PRODID:-//Tukios.com/
BEGIN:VEVENT
UID:a5368bd7-67b3-4010-a619-8a295fbfb919@development.altogetherfuneral.com
DTSTAMP:20260423T032058Z
DTSTART:20260424T140000Z
DTEND:20260424T150000Z
SUMMARY:Celebration of Life
DESCRIPTION:
URL:https://development.altogetherfuneral.com/obituaries/altogether/orlando-florida/launch-demo/february-2026
LOCATION: 1008 Madison Avenue  Fort Atkinson WI 53538
GEO:42.9354498;-88.8507178
END:VEVENT
END:VCALENDAR